View In:
ArcGIS JavaScript
ArcGIS Online Map Viewer
ArcGIS Earth
Service Description: ORMGP_Img/GEOLOGY_Bedrock_20250509_ORMGP_DRAFT
Name: ORMGP_Img/GEOLOGY_Bedrock_20250509_ORMGP_DRAFT
Description:
Single Fused Map Cache: false
Extent:
XMin: 524128.7726250618
YMin: 4744915.322377687
XMax: 845000.7315517173
YMax: 5068943.902705063
Spatial Reference: 26917
(26917)
LatestVCSWkid(0)
Initial Extent:
XMin: 524128.7726250618
YMin: 4744915.322377687
XMax: 845000.7315517173
YMax: 5068943.902705063
Spatial Reference: 26917
(26917)
LatestVCSWkid(0)
Full Extent:
XMin: 524128.7726250618
YMin: 4744915.322377687
XMax: 845000.7315517173
YMax: 5068943.902705063
Spatial Reference: 26917
(26917)
LatestVCSWkid(0)
Pixel Size X: 105.48059136313461
Pixel Size Y: 105.23825278576675
Band Count: 3
Pixel Type: F32
RasterFunction Infos: {"rasterFunctionInfos": [{
"name": "None",
"description": "",
"help": ""
}]}
Mensuration Capabilities: Basic
Inspection Capabilities:
Has Histograms: false
Has Colormap: false
Has Multi Dimensions : false
Rendering Rule:
Min Scale: 0
Max Scale: 0
Copyright Text:
Service Data Type: esriImageServiceDataTypeThematic
Min Values: N/A
Max Values: N/A
Mean Values: N/A
Standard Deviation Values: N/A
Object ID Field:
Fields:
None
Default Mosaic Method: Center
Allowed Mosaic Methods:
SortField:
SortValue: null
Mosaic Operator: First
Default Compression Quality: 75
Default Resampling Method: Bilinear
Max Record Count: null
Max Image Height: 4100
Max Image Width: 15000
Max Download Image Count: null
Max Mosaic Image Count: null
Allow Raster Function: true
Allow Copy: true
Allow Analysis: true
Allow Compute TiePoints: false
Supports Statistics: false
Supports Advanced Queries: false
Use StandardizedQueries: true
Raster Type Infos:
Name: Raster Dataset
Description: Supports all ArcGIS Raster Datasets
Help:
Has Raster Attribute Table: false
Edit Fields Info: null
Ownership Based AccessControl For Rasters: null
Child Resources:
Info
Statistics
Key Properties
Legend
Raster Function Infos
Supported Operations:
Export Image
Identify
Measure
Compute Histograms
Compute Statistics Histograms
Get Samples
Compute Class Statistics
Query Boundary
Compute Pixel Location
Compute Angles
Validate
Project