View In:
ArcGIS JavaScript
ArcGIS Online Map Viewer
ArcGIS Earth
Service Description: XSECTION/XSECTION_DEM_10m_MNRF
Name: XSECTION/XSECTION_DEM_10m_MNRF
Description:
Single Fused Map Cache: false
Extent:
XMin: 525341.2884842153
YMin: 4752805.838672889
XMax: 829066.2884842153
YMax: 5060255.838672889
Spatial Reference: 26917
(26917)
LatestVCSWkid(0)
Initial Extent:
XMin: 525341.2884842153
YMin: 4752805.838672889
XMax: 829066.2884842153
YMax: 5060255.838672889
Spatial Reference: 26917
(26917)
LatestVCSWkid(0)
Full Extent:
XMin: 525341.2884842153
YMin: 4752805.838672889
XMax: 829066.2884842153
YMax: 5060255.838672889
Spatial Reference: 26917
(26917)
LatestVCSWkid(0)
Pixel Size X: 25.0
Pixel Size Y: 25.0
Band Count: 1
Pixel Type: F32
RasterFunction Infos: {"rasterFunctionInfos": [{
"name": "None",
"description": "",
"help": ""
}]}
Mensuration Capabilities: Basic
Inspection Capabilities:
Has Histograms: true
Has Colormap: false
Has Multi Dimensions : false
Rendering Rule:
Min Scale: 0
Max Scale: 0
Copyright Text:
Service Data Type: esriImageServiceDataTypeElevation
Min Values: -65.4000015258789
Max Values: 561.6043090820312
Mean Values: 248.55011456957214
Standard Deviation Values: 127.92838559243566
Object ID Field:
Fields:
None
Default Mosaic Method: Center
Allowed Mosaic Methods:
SortField:
SortValue: null
Mosaic Operator: First
Default Compression Quality: 75
Default Resampling Method: Bilinear
Max Record Count: null
Max Image Height: 4100
Max Image Width: 15000
Max Download Image Count: null
Max Mosaic Image Count: null
Allow Raster Function: true
Allow Copy: true
Allow Analysis: true
Allow Compute TiePoints: false
Supports Statistics: false
Supports Advanced Queries: false
Use StandardizedQueries: true
Raster Type Infos:
Name: Raster Dataset
Description: Supports all ArcGIS Raster Datasets
Help:
Has Raster Attribute Table: false
Edit Fields Info: null
Ownership Based AccessControl For Rasters: null
Child Resources:
Info
Histograms
Statistics
Key Properties
Legend
Raster Function Infos
Supported Operations:
Export Image
Identify
Measure
Compute Histograms
Compute Statistics Histograms
Get Samples
Compute Class Statistics
Query Boundary
Compute Pixel Location
Compute Angles
Validate
Project
Calculate Volume